BEGIN:VCALENDAR
VERSION:2.0
PRODID:-//Bike Walk Savannah - ECPv6.15.20//NONSGML v1.0//EN
CALSCALE:GREGORIAN
METHOD:PUBLISH
X-ORIGINAL-URL:https://bikewalksavannah.org
X-WR-CALDESC:Events for Bike Walk Savannah
REFRESH-INTERVAL;VALUE=DURATION:PT1H
X-Robots-Tag:noindex
X-PUBLISHED-TTL:PT1H
BEGIN:VTIMEZONE
TZID:America/New_York
BEGIN:DAYLIGHT
TZOFFSETFROM:-0500
TZOFFSETTO:-0400
TZNAME:EDT
DTSTART:20220313T070000
END:DAYLIGHT
BEGIN:STANDARD
TZOFFSETFROM:-0400
TZOFFSETTO:-0500
TZNAME:EST
DTSTART:20221106T060000
END:STANDARD
BEGIN:DAYLIGHT
TZOFFSETFROM:-0500
TZOFFSETTO:-0400
TZNAME:EDT
DTSTART:20230312T070000
END:DAYLIGHT
BEGIN:STANDARD
TZOFFSETFROM:-0400
TZOFFSETTO:-0500
TZNAME:EST
DTSTART:20231105T060000
END:STANDARD
BEGIN:DAYLIGHT
TZOFFSETFROM:-0500
TZOFFSETTO:-0400
TZNAME:EDT
DTSTART:20240310T070000
END:DAYLIGHT
BEGIN:STANDARD
TZOFFSETFROM:-0400
TZOFFSETTO:-0500
TZNAME:EST
DTSTART:20241103T060000
END:STANDARD
END:VTIMEZONE
BEGIN:VEVENT
DTSTART;TZID=America/New_York:20231203T140000
DTEND;TZID=America/New_York:20231203T160000
DTSTAMP:20260425T174749
CREATED:20230215T220717Z
LAST-MODIFIED:20230215T220717Z
UID:10595-1701612000-1701619200@bikewalksavannah.org
SUMMARY:Walk Up Services at NSC
DESCRIPTION:Walk up services are provided the first Sunday of the month from 2-4 p.m.\, weather and holidays permitting. \nThe services we offer are: \n\nSelf-Serve Air – Free!\nTubes – $10\nTires – $20+\nBrake/Shifter adjustments – $5\n\n(Does not include new parts)\n\n\nPedals/Seats/Other Parts – As Available\n+ Suggested $5 labor donation for all services\n\nKnow how to work on your bike and need to borrow some tools? Stop by at any session and borrow them for $15/hour. \nOther services will be referred to a bike shop.
URL:https://bikewalksavannah.org/event/walk-up-services-at-nsc-10/
LOCATION:Bike Walk Savannah\, 1301 A Lincoln St.\, Savannah\, GA\, 31401\, United States
CATEGORIES:New Standard Cycles
END:VEVENT
BEGIN:VEVENT
DTSTART;TZID=America/New_York:20231206T173000
DTEND;TZID=America/New_York:20231206T183000
DTSTAMP:20260425T174749
CREATED:20230215T210808Z
LAST-MODIFIED:20230215T210808Z
UID:10581-1701883800-1701887400@bikewalksavannah.org
SUMMARY:December Wednesday Walk
DESCRIPTION:Let’s head out for a walk!\nWeather permitting we will meet at the Forsyth Park Fountain for a casually paced walk and talk. The walk is approximately 2 miles.\nPlease wear comfortable clothes and shoes you can walk in. Well behaved\, leashed dogs encouraged!
URL:https://bikewalksavannah.org/event/december-wednesday-walk/
LOCATION:Forsyth Park\, Gaston St.\, Savannah\, Georgia\, 31401\, United States
CATEGORIES:Event,Walk
END:VEVENT
BEGIN:VEVENT
DTSTART;TZID=America/New_York:20231220T173000
DTEND;TZID=America/New_York:20231220T190000
DTSTAMP:20260425T174749
CREATED:20230215T210903Z
LAST-MODIFIED:20230215T210903Z
UID:10582-1703093400-1703098800@bikewalksavannah.org
SUMMARY:Cycle Social: Downtown Savannah
DESCRIPTION:Join us each month for a casual\, family-friendly bike ride at a different spot in Savannah or Chatham County.\nThis month we’ll meet at 5:30 p.m. at the south end of Forsyth Park for a ride around downtown Savannah.\nLights required\, and helmets are encouraged. Please bring your bike and water\, and dress warmly. Ride distance is approximately 5 miles. Bonus points for decorating your bike\, wearing an awesome ugly sweater or belting our your favorite holiday tune!\nThe ride is free and open to the public\, but we encourage you to become a member of Bike Walk Savannah or make a donation to support our work at bikewalksavannah.org.
URL:https://bikewalksavannah.org/event/cycle-social-downtown-savannah-2/
LOCATION:Sentient Bean\, 13 E Park Ave.\, Savannah\, GA\, 31401\, United States
CATEGORIES:Bike Ride,Event
END:VEVENT
END:VCALENDAR