BEGIN:VCALENDAR
VERSION:2.0
PRODID:-//Bike Walk Savannah - ECPv6.15.20//NONSGML v1.0//EN
CALSCALE:GREGORIAN
METHOD:PUBLISH
X-ORIGINAL-URL:https://bikewalksavannah.org
X-WR-CALDESC:Events for Bike Walk Savannah
REFRESH-INTERVAL;VALUE=DURATION:PT1H
X-Robots-Tag:noindex
X-PUBLISHED-TTL:PT1H
BEGIN:VTIMEZONE
TZID:America/New_York
BEGIN:DAYLIGHT
TZOFFSETFROM:-0500
TZOFFSETTO:-0400
TZNAME:EDT
DTSTART:20220313T070000
END:DAYLIGHT
BEGIN:STANDARD
TZOFFSETFROM:-0400
TZOFFSETTO:-0500
TZNAME:EST
DTSTART:20221106T060000
END:STANDARD
BEGIN:DAYLIGHT
TZOFFSETFROM:-0500
TZOFFSETTO:-0400
TZNAME:EDT
DTSTART:20230312T070000
END:DAYLIGHT
BEGIN:STANDARD
TZOFFSETFROM:-0400
TZOFFSETTO:-0500
TZNAME:EST
DTSTART:20231105T060000
END:STANDARD
BEGIN:DAYLIGHT
TZOFFSETFROM:-0500
TZOFFSETTO:-0400
TZNAME:EDT
DTSTART:20240310T070000
END:DAYLIGHT
BEGIN:STANDARD
TZOFFSETFROM:-0400
TZOFFSETTO:-0500
TZNAME:EST
DTSTART:20241103T060000
END:STANDARD
END:VTIMEZONE
BEGIN:VEVENT
DTSTART;TZID=America/New_York:20231101T173000
DTEND;TZID=America/New_York:20231101T183000
DTSTAMP:20260425T144621
CREATED:20230215T205716Z
LAST-MODIFIED:20230215T205716Z
UID:10573-1698859800-1698863400@bikewalksavannah.org
SUMMARY:November Wednesday Walk
DESCRIPTION:Let’s head out for a walk!Weather permitting we will meet at the Lake Mayer for a casually paced walk and talk. The walk is approximately 2 miles.\nPlease wear comfortable clothes and shoes you can walk in. Well behaved\, leashed dogs encouraged!
URL:https://bikewalksavannah.org/event/november-wednesday-walk-2/
LOCATION:GA
CATEGORIES:Event,Walk
ATTACH;FMTTYPE=image/jpeg:https://bikewalksavannah.org/wp-content/uploads/2023/02/328723018_620261673442263_187244435467063756_n-9YPnG1.tmp_.jpg
END:VEVENT
BEGIN:VEVENT
DTSTART;TZID=America/New_York:20231105T140000
DTEND;TZID=America/New_York:20231105T160000
DTSTAMP:20260425T144621
CREATED:20230215T220652Z
LAST-MODIFIED:20230215T220652Z
UID:10594-1699192800-1699200000@bikewalksavannah.org
SUMMARY:Walk Up Services at NSC
DESCRIPTION:Walk up services are provided the first Sunday of the month from 2-4 p.m.\, weather and holidays permitting. \nThe services we offer are: \n\nSelf-Serve Air – Free!\nTubes – $10\nTires – $20+\nBrake/Shifter adjustments – $5\n\n(Does not include new parts)\n\n\nPedals/Seats/Other Parts – As Available\n+ Suggested $5 labor donation for all services\n\nKnow how to work on your bike and need to borrow some tools? Stop by at any session and borrow them for $15/hour. \nOther services will be referred to a bike shop.
URL:https://bikewalksavannah.org/event/walk-up-services-at-nsc-9/
LOCATION:Bike Walk Savannah\, 1301 A Lincoln St.\, Savannah\, GA\, 31401\, United States
CATEGORIES:New Standard Cycles
END:VEVENT
BEGIN:VEVENT
DTSTART;TZID=America/New_York:20231115T173000
DTEND;TZID=America/New_York:20231115T190000
DTSTAMP:20260425T144621
CREATED:20230215T205718Z
LAST-MODIFIED:20230215T205718Z
UID:10575-1700069400-1700074800@bikewalksavannah.org
SUMMARY:Cycle Social: Truman Linear Park Trail
DESCRIPTION:Join us each month for a casual\, family-friendly bike ride at a different spot in Savannah or Chatham County.This month we’ll meet at 5:30 p.m. at Lake Mayer in front of the Community Center/Park Administrative Office and ride the Truman Linear Park Trail\, ending with a conversation about Tide To Town and the future of our urban trail system.\nLights and helmets required. Please bring your bike and water. Ride distance is approximately 7.5 miles.\nThe ride is free and open to the public\, but we encourage you to become a member of Bike Walk Savannah or make a donation to support our work at bikewalksavannah.org.
URL:https://bikewalksavannah.org/event/cycle-social-truman-linear-park-trail-3/
LOCATION:GA
CATEGORIES:Bike Ride,Event
ATTACH;FMTTYPE=image/jpeg:https://bikewalksavannah.org/wp-content/uploads/2023/02/328642824_5900088293401056_3829314192202422541_n-fK24kg.tmp_.jpg
END:VEVENT
BEGIN:VEVENT
DTSTART;TZID=America/New_York:20231118T130000
DTEND;TZID=America/New_York:20231118T160000
DTSTAMP:20260425T144621
CREATED:20230215T205720Z
LAST-MODIFIED:20230215T205720Z
UID:10577-1700312400-1700323200@bikewalksavannah.org
SUMMARY:11th Annual Savannah Cranksgiving Ride
DESCRIPTION:Our 11th annual Savannah Cranksgiving Ride is Saturday\, Nov. 18 starting at 1 p.m. Cranksgiving is half bike ride\, half food drive and a 100 percent fun way to spend a Saturday afternoon helping others.Bike Walk Savannah (and you!) will be helping feed hungry people at Emmaus House. Founded in 1982 by a group of downtown churches\, Emmaus House provides food and day services to the homeless and needy of Savannah. Breakfast is served at 8:30 a.m. Monday through Friday\, fifty weeks each year.\nRegistration for the ride starts at 1 p.m. on Saturday\, Nov. 18 at BWS HQ (Corner of Henry and Lincoln streets). At registration\, participants will receive a shopping list of items needed by Emmaus House\, as well as a scavenger hunt. The challenge begins at 1:30 p.m. when riders roll out to shop by bike. Participants should pick up items from the shopping list without going over $15-20 price limit. This is not a race! Riders may compete by themselves or on teams (up to 6 members).\nPrize packages will be awarded in the following categories:\nMost Items Carried by a Single Person\nMost Stores Visited (receipts needed from each store)\nBest Team Effort\nMost Innovative Cargo Rig\nParticipants who complete the Scavenger Hunt will be entered to win a BWS prize pack.\nAll participants must return to 1301 A Lincoln St. by 4 p.m. to tally up their purchases.\nWhat should you bring? First of all\, you’ll need your bike and $15-20. We also suggest a helmet. If you’re planning on carrying groceries\, you should bring a backpack or other cargo solution for your bike.\nAdvanced registration is recommended. If you are unable to participate in person\, please email info@bikewalksavannah.org to receive the supply list or visit Eventbrite to make a financial contribution.\nCranksgiving is a national event that occurs in over 100 cities across the United States and Canada. Visit www.cranksgiving.org for more locations. Register in advance: https://www.eventbrite.com/e/11th-annual-savannah-cranksgiving-ride-tickets-531138428337
URL:https://bikewalksavannah.org/event/11th-annual-savannah-cranksgiving-ride/
LOCATION:GA
CATEGORIES:Bike Ride,Event
ATTACH;FMTTYPE=image/jpeg:https://bikewalksavannah.org/wp-content/uploads/2023/02/328724003_519153303693220_4072720859993017928_n-9BExyX.tmp_.jpg
END:VEVENT
END:VCALENDAR