BEGIN:VCALENDAR
VERSION:2.0
PRODID:-//Bike Walk Savannah - ECPv6.15.20//NONSGML v1.0//EN
CALSCALE:GREGORIAN
METHOD:PUBLISH
X-WR-CALNAME:Bike Walk Savannah
X-ORIGINAL-URL:https://bikewalksavannah.org
X-WR-CALDESC:Events for Bike Walk Savannah
REFRESH-INTERVAL;VALUE=DURATION:PT1H
X-Robots-Tag:noindex
X-PUBLISHED-TTL:PT1H
BEGIN:VTIMEZONE
TZID:America/New_York
BEGIN:DAYLIGHT
TZOFFSETFROM:-0500
TZOFFSETTO:-0400
TZNAME:EDT
DTSTART:20220313T070000
END:DAYLIGHT
BEGIN:STANDARD
TZOFFSETFROM:-0400
TZOFFSETTO:-0500
TZNAME:EST
DTSTART:20221106T060000
END:STANDARD
BEGIN:DAYLIGHT
TZOFFSETFROM:-0500
TZOFFSETTO:-0400
TZNAME:EDT
DTSTART:20230312T070000
END:DAYLIGHT
BEGIN:STANDARD
TZOFFSETFROM:-0400
TZOFFSETTO:-0500
TZNAME:EST
DTSTART:20231105T060000
END:STANDARD
BEGIN:DAYLIGHT
TZOFFSETFROM:-0500
TZOFFSETTO:-0400
TZNAME:EDT
DTSTART:20240310T070000
END:DAYLIGHT
BEGIN:STANDARD
TZOFFSETFROM:-0400
TZOFFSETTO:-0500
TZNAME:EST
DTSTART:20241103T060000
END:STANDARD
END:VTIMEZONE
BEGIN:VEVENT
DTSTART;TZID=America/New_York:20230906T180000
DTEND;TZID=America/New_York:20230906T190000
DTSTAMP:20260425T144638
CREATED:20230215T205704Z
LAST-MODIFIED:20230906T163556Z
UID:10565-1694023200-1694026800@bikewalksavannah.org
SUMMARY:September Wednesday Walk
DESCRIPTION:Let’s head out for a walk! Weather permitting we will meet at the Juliette Low Park for a casually paced walk and talk. The walk is approximately 2 miles.\nPlease wear comfortable clothes and shoes you can walk in. Well behaved\, leashed dogs encouraged!
URL:https://bikewalksavannah.org/event/september-wednesday-walk/
LOCATION:Juliette Low Park\, Kentucky Avenue at Edgewood Road\, Savannah\, GA\, 31404\, United States
CATEGORIES:Event,Walk
ATTACH;FMTTYPE=image/jpeg:https://bikewalksavannah.org/wp-content/uploads/2023/02/328723018_620261673442263_187244435467063756_n-hcHKvK.tmp_.jpg
END:VEVENT
BEGIN:VEVENT
DTSTART;TZID=America/New_York:20230910T130000
DTEND;TZID=America/New_York:20230910T160000
DTSTAMP:20260425T144638
CREATED:20230906T150547Z
LAST-MODIFIED:20230906T150547Z
UID:10765-1694350800-1694361600@bikewalksavannah.org
SUMMARY:Fall Bike Sale
DESCRIPTION:Browse used bikes refurbished by the New Standard Cycles crew for an affordable price! \nClick here to view some of the inventory. \nLooking to build up your perfect bike? We may have perfect part or frame to complete that build that’s been sitting in your garage.\nAll proceeds from the sale go to our New Standard Cycles program\, which works with service agencies and nonprofits to provide bikes for those in need of reliable transportation.\nEmail info@bikewalksavannah.org with any questions about the sale. Cash\, card\, Paypal and Venmo will be accepted.
URL:https://bikewalksavannah.org/event/fall-bike-sale/
LOCATION:Bike Walk Savannah\, 1301 A Lincoln St.\, Savannah\, GA\, 31401\, United States
CATEGORIES:Event
END:VEVENT
BEGIN:VEVENT
DTSTART;TZID=America/New_York:20230910T140000
DTEND;TZID=America/New_York:20230910T160000
DTSTAMP:20260425T144638
CREATED:20230215T220608Z
LAST-MODIFIED:20230215T220608Z
UID:10592-1694354400-1694361600@bikewalksavannah.org
SUMMARY:Walk Up Services at NSC
DESCRIPTION:Walk up services are provided the first Sunday of the month from 2-4 p.m.\, weather and holidays permitting. \nThe services we offer are: \n\nSelf-Serve Air – Free!\nTubes – $10\nTires – $20+\nBrake/Shifter adjustments – $5\n\n(Does not include new parts)\n\n\nPedals/Seats/Other Parts – As Available\n+ Suggested $5 labor donation for all services\n\nKnow how to work on your bike and need to borrow some tools? Stop by at any session and borrow them for $15/hour. \nOther services will be referred to a bike shop.
URL:https://bikewalksavannah.org/event/walk-up-services-at-nsc-7/
LOCATION:Bike Walk Savannah\, 1301 A Lincoln St.\, Savannah\, GA\, 31401\, United States
CATEGORIES:New Standard Cycles
END:VEVENT
BEGIN:VEVENT
DTSTART;TZID=America/New_York:20230920T180000
DTEND;TZID=America/New_York:20230920T193000
DTSTAMP:20260425T144638
CREATED:20230215T205706Z
LAST-MODIFIED:20230215T205706Z
UID:10567-1695232800-1695238200@bikewalksavannah.org
SUMMARY:Cycle Social: Gordonston/Eastside
DESCRIPTION:Cycle social is back! Join us each month for a casual\, family-friendly bike ride at a different spot in Savannah or Chatham County.This month we’ll meet at 6 p.m. at Juliette Low Park for a ride around Gordonston and Eastside Savannah.\nLights and helmets required. Please bring your bike and water. Ride distance is approximately 5 miles.\nThe ride is free and open to the public\, but we encourage you to become a member of Bike Walk Savannah or make a donation to support our work at bikewalksavannah.org.
URL:https://bikewalksavannah.org/event/cycle-social-gordonston-eastside-2/
LOCATION:Juliette Low Park\, Kentucky Avenue at Edgewood Road\, Savannah\, GA\, 31404\, United States
CATEGORIES:Bike Ride,Event
ATTACH;FMTTYPE=image/jpeg:https://bikewalksavannah.org/wp-content/uploads/2023/02/328614102_554750996710761_6327713876013529078_n-J3lw2t.tmp_.jpg
END:VEVENT
END:VCALENDAR