BEGIN:VCALENDAR
VERSION:2.0
PRODID:-//Bike Walk Savannah - ECPv6.15.20//NONSGML v1.0//EN
CALSCALE:GREGORIAN
METHOD:PUBLISH
X-ORIGINAL-URL:https://bikewalksavannah.org
X-WR-CALDESC:Events for Bike Walk Savannah
REFRESH-INTERVAL;VALUE=DURATION:PT1H
X-Robots-Tag:noindex
X-PUBLISHED-TTL:PT1H
BEGIN:VTIMEZONE
TZID:America/New_York
BEGIN:DAYLIGHT
TZOFFSETFROM:-0500
TZOFFSETTO:-0400
TZNAME:EDT
DTSTART:20190310T070000
END:DAYLIGHT
BEGIN:STANDARD
TZOFFSETFROM:-0400
TZOFFSETTO:-0500
TZNAME:EST
DTSTART:20191103T060000
END:STANDARD
BEGIN:DAYLIGHT
TZOFFSETFROM:-0500
TZOFFSETTO:-0400
TZNAME:EDT
DTSTART:20200308T070000
END:DAYLIGHT
BEGIN:STANDARD
TZOFFSETFROM:-0400
TZOFFSETTO:-0500
TZNAME:EST
DTSTART:20201101T060000
END:STANDARD
BEGIN:DAYLIGHT
TZOFFSETFROM:-0500
TZOFFSETTO:-0400
TZNAME:EDT
DTSTART:20210314T070000
END:DAYLIGHT
BEGIN:STANDARD
TZOFFSETFROM:-0400
TZOFFSETTO:-0500
TZNAME:EST
DTSTART:20211107T060000
END:STANDARD
BEGIN:DAYLIGHT
TZOFFSETFROM:-0500
TZOFFSETTO:-0400
TZNAME:EDT
DTSTART:20220313T070000
END:DAYLIGHT
BEGIN:STANDARD
TZOFFSETFROM:-0400
TZOFFSETTO:-0500
TZNAME:EST
DTSTART:20221106T060000
END:STANDARD
END:VTIMEZONE
BEGIN:VEVENT
DTSTART;VALUE=DATE:20210811
DTEND;VALUE=DATE:20210812
DTSTAMP:20260425T062507
CREATED:20210204T224111Z
LAST-MODIFIED:20210204T224111Z
UID:9097-1628640000-1628726399@bikewalksavannah.org
SUMMARY:Wednesday Walks - August
DESCRIPTION:Staying physically active is important for both physical AND mental health.\nThat’s why we’re encouraging everyone to get out for a walk around their neighborhood or yard! Tune in on Wednesday for a prompt of something to share from your adventure or a new place to explore\, and take photos to share your walk. Make sure to tag Bike Walk Savannah and #BikeWalkSAV #WednesdayWalks.
URL:https://bikewalksavannah.org/event/wednesday-walks-august/
LOCATION:Virtual Event
CATEGORIES:Virtual Event,Walks
END:VEVENT
BEGIN:VEVENT
DTSTART;VALUE=DATE:20210714
DTEND;VALUE=DATE:20210715
DTSTAMP:20260425T062507
CREATED:20210204T223934Z
LAST-MODIFIED:20210204T223934Z
UID:9096-1626220800-1626307199@bikewalksavannah.org
SUMMARY:Wednesday Walks - July
DESCRIPTION:Staying physically active is important for both physical AND mental health.\nThat’s why we’re encouraging everyone to get out for a walk around their neighborhood or yard! Tune in on Wednesday for a prompt of something to share from your adventure or a new place to explore\, and take photos to share your walk. Make sure to tag Bike Walk Savannah and #BikeWalkSAV #WednesdayWalks.
URL:https://bikewalksavannah.org/event/wednesday-walks-july/
LOCATION:Virtual Event
CATEGORIES:Virtual Event,Walks
ATTACH;FMTTYPE=image/gif:https://bikewalksavannah.org/wp-content/uploads/2021/02/BWS-ww.gif
END:VEVENT
BEGIN:VEVENT
DTSTART;VALUE=DATE:20210609
DTEND;VALUE=DATE:20210610
DTSTAMP:20260425T062507
CREATED:20210204T223828Z
LAST-MODIFIED:20210204T223828Z
UID:9095-1623196800-1623283199@bikewalksavannah.org
SUMMARY:Wednesday Walks - June
DESCRIPTION:Staying physically active is important for both physical AND mental health.\nThat’s why we’re encouraging everyone to get out for a walk around their neighborhood or yard! Tune in on Wednesday for a prompt of something to share from your adventure or a new place to explore\, and take photos to share your walk. Make sure to tag Bike Walk Savannah and #BikeWalkSAV #WednesdayWalks.
URL:https://bikewalksavannah.org/event/wednesday-walks-june/
LOCATION:Virtual Event
CATEGORIES:Virtual Event,Walks
END:VEVENT
BEGIN:VEVENT
DTSTART;VALUE=DATE:20210512
DTEND;VALUE=DATE:20210513
DTSTAMP:20260425T062507
CREATED:20210204T223745Z
LAST-MODIFIED:20210204T223840Z
UID:9094-1620777600-1620863999@bikewalksavannah.org
SUMMARY:Wednesday Walks - May
DESCRIPTION:Staying physically active is important for both physical AND mental health.\nThat’s why we’re encouraging everyone to get out for a walk around their neighborhood or yard! Tune in on Wednesday for a prompt of something to share from your adventure or a new place to explore\, and take photos to share your walk. Make sure to tag Bike Walk Savannah and #BikeWalkSAV #WednesdayWalks.
URL:https://bikewalksavannah.org/event/wednesday-walks-may/
LOCATION:Virtual Event
CATEGORIES:Virtual Event,Walks
ATTACH;FMTTYPE=image/gif:https://bikewalksavannah.org/wp-content/uploads/2021/02/BWS-ww.gif
END:VEVENT
BEGIN:VEVENT
DTSTART;VALUE=DATE:20210414
DTEND;VALUE=DATE:20210415
DTSTAMP:20260425T062507
CREATED:20210204T223714Z
LAST-MODIFIED:20210204T223714Z
UID:9093-1618358400-1618444799@bikewalksavannah.org
SUMMARY:Wednesday Walks - April
DESCRIPTION:Staying physically active is important for both physical AND mental health.\nThat’s why we’re encouraging everyone to get out for a walk around their neighborhood or yard! Tune in on Wednesday for a prompt of something to share from your adventure or a new place to explore\, and take photos to share your walk. Make sure to tag Bike Walk Savannah and #BikeWalkSAV #WednesdayWalks.
URL:https://bikewalksavannah.org/event/wednesday-walks-april/
LOCATION:Virtual Event
CATEGORIES:Virtual Event,Walks
ATTACH;FMTTYPE=image/gif:https://bikewalksavannah.org/wp-content/uploads/2021/02/BWS-ww.gif
END:VEVENT
BEGIN:VEVENT
DTSTART;VALUE=DATE:20210310
DTEND;VALUE=DATE:20210311
DTSTAMP:20260425T062507
CREATED:20210204T223623Z
LAST-MODIFIED:20210204T223623Z
UID:9092-1615334400-1615420799@bikewalksavannah.org
SUMMARY:Wednesday Walks - March
DESCRIPTION:Staying physically active is important for both physical AND mental health.\nThat’s why we’re encouraging everyone to get out for a walk around their neighborhood or yard! Tune in on Wednesday for a prompt of something to share from your adventure or a new place to explore\, and take photos to share your walk. Make sure to tag Bike Walk Savannah and #BikeWalkSAV #WednesdayWalks.
URL:https://bikewalksavannah.org/event/wednesday-walks-march/
LOCATION:Virtual Event
CATEGORIES:Virtual Event,Walks
END:VEVENT
BEGIN:VEVENT
DTSTART;TZID=America/New_York:20210306T100000
DTEND;TZID=America/New_York:20210306T120000
DTSTAMP:20260425T062507
CREATED:20210205T142915Z
LAST-MODIFIED:20210205T142939Z
UID:9139-1615024800-1615032000@bikewalksavannah.org
SUMMARY:Love Your Trail Day: Truman Linear Park Trail
DESCRIPTION:Truman Linear Park Trail Phase 2A is the Savannah area’s newest trail and we want to keep it neat and tidy. Join us as we pick up any litter and collect recycling\, trim vegetation\, and make sure the trail is in tiptop shape. All tools and supplies will be provided. \nWe will be spatially distanced\, but masks are required. Meet at the Scarborough Sports Complex\, located at the corner of Skidaway Road and Bona Bella Avenue.
URL:https://bikewalksavannah.org/event/love-your-trail-day-truman-linear-park-trail/
LOCATION:Scarborough Sports Complex\, Skidaway Road at Bonna Bella Ave.\, Savannah\, GA\, 31406
CATEGORIES:Event,Walks
ATTACH;FMTTYPE=image/jpeg:https://bikewalksavannah.org/wp-content/uploads/2021/02/132883670_1202099526853495_3400357161917747016_o.jpg
END:VEVENT
BEGIN:VEVENT
DTSTART;VALUE=DATE:20210210
DTEND;VALUE=DATE:20210211
DTSTAMP:20260425T062507
CREATED:20210204T223442Z
LAST-MODIFIED:20210204T223513Z
UID:9087-1612915200-1613001599@bikewalksavannah.org
SUMMARY:Wednesday Walks - February
DESCRIPTION:Staying physically active is important for both physical AND mental health.\nThat’s why we’re encouraging everyone to get out for a walk around their neighborhood or yard! Tune in on Wednesday for a prompt of something to share from your adventure or a new place to explore\, and take photos to share your walk. Make sure to tag Bike Walk Savannah and #BikeWalkSAV #WednesdayWalks.
URL:https://bikewalksavannah.org/event/wednesday-walks-february/
LOCATION:Virtual Event
CATEGORIES:Virtual Event,Walks
ATTACH;FMTTYPE=image/gif:https://bikewalksavannah.org/wp-content/uploads/2021/02/BWS-ww.gif
END:VEVENT
BEGIN:VEVENT
DTSTART;VALUE=DATE:20201125
DTEND;VALUE=DATE:20201126
DTSTAMP:20260425T062507
CREATED:20201110T172449Z
LAST-MODIFIED:20201110T172449Z
UID:9023-1606262400-1606348799@bikewalksavannah.org
SUMMARY:Literary Scavenger Hunt with Live Oak Public Libraries
DESCRIPTION:The weather is still beautiful\, and let’s get movin’ around Savannah!\n\nBike Walk Savannah and Live Oak Public Libraries present the Literary Scavenger Hunt around Savannah\, taking place Nov. 11\, Nov. 18 and Nov. 25.\n\n\n\n\n\n\nEach week you’ll get a new chance to enter to win a BWS and @liveoakpl swag pack. How to enter: \n1. Go for a walk (or bike ride!)\n2. Snap photos as you complete a column\, row or diagonal.\n3. Post your photos on Wednesdays to social media and tag Bike Walk Savannah\, Live Oak Public Libraries and #BookWalkSAV \nWe’ll be sharing our finds each week as well. Remember\, you must share new photos each week to be entered! \nAs you explore\, please follow any rules your city or county has regarding face masks and social distancing. Your posts may be shared by BWS and LOPL for promotional purposes. 
URL:https://bikewalksavannah.org/event/literary-scavenger-hunt-with-live-oak-public-libraries-3/
LOCATION:Savannah\, GA
CATEGORIES:Bike Ride,Event,Virtual Event,Walks
END:VEVENT
BEGIN:VEVENT
DTSTART;VALUE=DATE:20201118
DTEND;VALUE=DATE:20201119
DTSTAMP:20260425T062507
CREATED:20201110T172445Z
LAST-MODIFIED:20201110T172445Z
UID:9022-1605657600-1605743999@bikewalksavannah.org
SUMMARY:Literary Scavenger Hunt with Live Oak Public Libraries
DESCRIPTION:The weather is still beautiful\, and let’s get movin’ around Savannah!\n\nBike Walk Savannah and Live Oak Public Libraries present the Literary Scavenger Hunt around Savannah\, taking place Nov. 11\, Nov. 18 and Nov. 25.\n\n\n\n\n\n\nEach week you’ll get a new chance to enter to win a BWS and @liveoakpl swag pack. How to enter: \n1. Go for a walk (or bike ride!)\n2. Snap photos as you complete a column\, row or diagonal.\n3. Post your photos on Wednesdays to social media and tag Bike Walk Savannah\, Live Oak Public Libraries and #BookWalkSAV \nWe’ll be sharing our finds each week as well. Remember\, you must share new photos each week to be entered! \nAs you explore\, please follow any rules your city or county has regarding face masks and social distancing. Your posts may be shared by BWS and LOPL for promotional purposes. 
URL:https://bikewalksavannah.org/event/literary-scavenger-hunt-with-live-oak-public-libraries-2/
LOCATION:Savannah\, GA
CATEGORIES:Bike Ride,Event,Virtual Event,Walks
ATTACH;FMTTYPE=image/jpeg:https://bikewalksavannah.org/wp-content/uploads/2020/11/124709198_10165005997510427_1769860653107263159_n.jpg
END:VEVENT
BEGIN:VEVENT
DTSTART;VALUE=DATE:20201111
DTEND;VALUE=DATE:20201112
DTSTAMP:20260425T062507
CREATED:20201110T171841Z
LAST-MODIFIED:20201110T171841Z
UID:9019-1605052800-1605139199@bikewalksavannah.org
SUMMARY:Literary Scavenger Hunt with Live Oak Public Libraries
DESCRIPTION:The weather is still beautiful\, and let’s get movin’ around Savannah!\n\nBike Walk Savannah and Live Oak Public Libraries present the Literary Scavenger Hunt around Savannah\, taking place Nov. 11\, Nov. 18 and Nov. 25.\n\n\n\n\n\n\nEach week you’ll get a new chance to enter to win a BWS and @liveoakpl swag pack. How to enter: \n1. Go for a walk (or bike ride!)\n2. Snap photos as you complete a column\, row or diagonal.\n3. Post your photos on Wednesdays to social media and tag Bike Walk Savannah\, Live Oak Public Libraries and #BookWalkSAV \nWe’ll be sharing our finds each week as well. Remember\, you must share new photos each week to be entered! \nAs you explore\, please follow any rules your city or county has regarding face masks and social distancing. Your posts may be shared by BWS and LOPL for promotional purposes. 
URL:https://bikewalksavannah.org/event/literary-scavenger-hunt-with-live-oak-public-libraries/
LOCATION:Savannah\, GA
CATEGORIES:Bike Ride,Event,Virtual Event,Walks
END:VEVENT
BEGIN:VEVENT
DTSTART;VALUE=DATE:20200527
DTEND;VALUE=DATE:20200528
DTSTAMP:20260425T062507
CREATED:20200511T210217Z
LAST-MODIFIED:20200511T210217Z
UID:8837-1590537600-1590623999@bikewalksavannah.org
SUMMARY:Wednesday Walks
DESCRIPTION:Staying physically active is important for both physical AND mental health\, and is especially important during the COVID-19 pandemic. \nThat’s why we’re encouraging everyone to get out for a walk around their neighborhood or yard! Tune in on Wednesday for a prompt of something to share from your adventure\, and take photos to share your walk. Make sure to tag Bike Walk Savannah and #BikeWalkSAV #WednesdayWalks.
URL:https://bikewalksavannah.org/event/wednesday-walks-3/
LOCATION:Virtual Event
CATEGORIES:Virtual Event,Walks
END:VEVENT
BEGIN:VEVENT
DTSTART;VALUE=DATE:20200520
DTEND;VALUE=DATE:20200521
DTSTAMP:20260425T062507
CREATED:20200511T210122Z
LAST-MODIFIED:20200511T210122Z
UID:8835-1589932800-1590019199@bikewalksavannah.org
SUMMARY:Wednesday Walks
DESCRIPTION:Staying physically active is important for both physical AND mental health\, and is especially important during the COVID-19 pandemic. \nThat’s why we’re encouraging everyone to get out for a walk around their neighborhood or yard! Tune in on Wednesday for a prompt of something to share from your adventure\, and take photos to share your walk. Make sure to tag Bike Walk Savannah and #BikeWalkSAV #WednesdayWalks.
URL:https://bikewalksavannah.org/event/wednesday-walks-2/
LOCATION:Virtual Event
CATEGORIES:Virtual Event,Walks
END:VEVENT
BEGIN:VEVENT
DTSTART;VALUE=DATE:20200513
DTEND;VALUE=DATE:20200514
DTSTAMP:20260425T062507
CREATED:20200511T205930Z
LAST-MODIFIED:20200511T205930Z
UID:8832-1589328000-1589414399@bikewalksavannah.org
SUMMARY:Wednesday Walks
DESCRIPTION:Staying physically active is important for both physical AND mental health\, and is especially important during the COVID-19 pandemic. \nThat’s why we’re encouraging everyone to get out for a walk around their neighborhood or yard! Tune in on Wednesday for a prompt of something to share from your adventure\, and take photos to share your walk. Make sure to tag Bike Walk Savannah and #BikeWalkSAV #WednesdayWalks.
URL:https://bikewalksavannah.org/event/wednesday-walks/
LOCATION:Virtual Event
CATEGORIES:Virtual Event,Walks
ATTACH;FMTTYPE=image/jpeg:https://bikewalksavannah.org/wp-content/uploads/2020/04/child-playing-hopscotch-989x660-1-e1588168608738.jpg
END:VEVENT
BEGIN:VEVENT
DTSTART;TZID=America/New_York:20200415T080000
DTEND;TZID=America/New_York:20200415T170000
DTSTAMP:20260425T062507
CREATED:20200410T151720Z
LAST-MODIFIED:20200410T151720Z
UID:8735-1586937600-1586970000@bikewalksavannah.org
SUMMARY:Wednesday Walk
DESCRIPTION:Staying physically active is important for both physical AND mental health\, and is especially important during the COVID-19 pandemic. \nThat’s why we’re encouraging everyone to get out for a walk around their neighborhood or yard! Tune in on Wednesday for a prompt of something to share from your adventure\, and take photos to share your walk. Make sure to tag Bike Walk Savannah and #BikeWalkSAV #WednesdayWalks.
URL:https://bikewalksavannah.org/event/wednesday-walk/
CATEGORIES:Walks
END:VEVENT
END:VCALENDAR