BEGIN:VCALENDAR
VERSION:2.0
PRODID:-//Bike Walk Savannah - ECPv6.15.20//NONSGML v1.0//EN
CALSCALE:GREGORIAN
METHOD:PUBLISH
X-WR-CALNAME:Bike Walk Savannah
X-ORIGINAL-URL:https://bikewalksavannah.org
X-WR-CALDESC:Events for Bike Walk Savannah
REFRESH-INTERVAL;VALUE=DURATION:PT1H
X-Robots-Tag:noindex
X-PUBLISHED-TTL:PT1H
BEGIN:VTIMEZONE
TZID:America/New_York
BEGIN:DAYLIGHT
TZOFFSETFROM:-0500
TZOFFSETTO:-0400
TZNAME:EDT
DTSTART:20220313T070000
END:DAYLIGHT
BEGIN:STANDARD
TZOFFSETFROM:-0400
TZOFFSETTO:-0500
TZNAME:EST
DTSTART:20221106T060000
END:STANDARD
BEGIN:DAYLIGHT
TZOFFSETFROM:-0500
TZOFFSETTO:-0400
TZNAME:EDT
DTSTART:20230312T070000
END:DAYLIGHT
BEGIN:STANDARD
TZOFFSETFROM:-0400
TZOFFSETTO:-0500
TZNAME:EST
DTSTART:20231105T060000
END:STANDARD
BEGIN:DAYLIGHT
TZOFFSETFROM:-0500
TZOFFSETTO:-0400
TZNAME:EDT
DTSTART:20240310T070000
END:DAYLIGHT
BEGIN:STANDARD
TZOFFSETFROM:-0400
TZOFFSETTO:-0500
TZNAME:EST
DTSTART:20241103T060000
END:STANDARD
END:VTIMEZONE
BEGIN:VEVENT
DTSTART;TZID=America/New_York:20230607T180000
DTEND;TZID=America/New_York:20230607T190000
DTSTAMP:20260425T164723
CREATED:20230215T205634Z
LAST-MODIFIED:20230215T205634Z
UID:10547-1686160800-1686164400@bikewalksavannah.org
SUMMARY:June Wednesday Walk
DESCRIPTION:Weather permitting we will meet at the Tybee Island Marine Science Center for a walk along North Beach and through the neighborhood. The walk is approximately 2 miles.Please wear comfortable clothes and shoes you can walk in.
URL:https://bikewalksavannah.org/event/june-wednesday-walk/
CATEGORIES:Event,Walk
ATTACH;FMTTYPE=image/jpeg:https://bikewalksavannah.org/wp-content/uploads/2023/02/328723018_620261673442263_187244435467063756_n-vlhWap.tmp_.jpg
END:VEVENT
BEGIN:VEVENT
DTSTART;TZID=America/New_York:20230503T180000
DTEND;TZID=America/New_York:20230503T190000
DTSTAMP:20260425T164723
CREATED:20230215T205604Z
LAST-MODIFIED:20230215T205619Z
UID:10528-1683136800-1683140400@bikewalksavannah.org
SUMMARY:May Wednesday Walk
DESCRIPTION:Let’s head out for a walk!Weather permitting we will meet at the visitors center at Skidaway Island State Park for a casually paced walk and talk. The walk is approximately 2 miles.\nPlease wear comfortable clothes and shoes you can walk in. Well behaved\, leashed dogs encouraged!
URL:https://bikewalksavannah.org/event/may-wednesday-walk-2/
CATEGORIES:Event,Walk
ATTACH;FMTTYPE=image/jpeg:https://bikewalksavannah.org/wp-content/uploads/2023/02/328723018_620261673442263_187244435467063756_n-9zNrbJ.tmp_.jpg
END:VEVENT
BEGIN:VEVENT
DTSTART;TZID=America/New_York:20230405T180000
DTEND;TZID=America/New_York:20230405T190000
DTSTAMP:20260425T164723
CREATED:20230215T205557Z
LAST-MODIFIED:20230215T205611Z
UID:10522-1680717600-1680721200@bikewalksavannah.org
SUMMARY:April Wednesday Walk
DESCRIPTION:Let’s head out for a walk!Weather permitting we will meet at the parking lot at Mohawk Park for a casually paced walk and talk. The walk is approximately 2 miles.\nPlease wear comfortable clothes and shoes you can walk in. Well behaved\, leashed dogs encouraged!
URL:https://bikewalksavannah.org/event/april-wednesday-walk/
CATEGORIES:Event,Walk
ATTACH;FMTTYPE=image/jpeg:https://bikewalksavannah.org/wp-content/uploads/2023/02/328723018_620261673442263_187244435467063756_n-qI9dMh.tmp_.jpg
END:VEVENT
BEGIN:VEVENT
DTSTART;TZID=America/New_York:20230301T180000
DTEND;TZID=America/New_York:20230301T190000
DTSTAMP:20260425T164723
CREATED:20230215T205541Z
LAST-MODIFIED:20230215T205541Z
UID:10514-1677693600-1677697200@bikewalksavannah.org
SUMMARY:March Wednesday Walk
DESCRIPTION:Let’s head out for a walk!Weather permitting we will meet at the parking lot at Bowles C Ford Park for a casually paced walk and talk. The walk is approximately 2 miles (2 loops of the trail and path). Participants will get to see how the park will connect to the Tide To Town urban trail system.\nPlease wear comfortable clothes and shoes you can walk in. Well behaved\, leashed dogs encouraged!
URL:https://bikewalksavannah.org/event/march-wednesday-walk/
CATEGORIES:Event,Walk
ATTACH;FMTTYPE=image/jpeg:https://bikewalksavannah.org/wp-content/uploads/2023/02/328723018_620261673442263_187244435467063756_n-5snTf8.tmp_.jpg
END:VEVENT
END:VCALENDAR