BEGIN:VCALENDAR
VERSION:2.0
PRODID:-//Bike Walk Savannah - ECPv6.15.20//NONSGML v1.0//EN
CALSCALE:GREGORIAN
METHOD:PUBLISH
X-WR-CALNAME:Bike Walk Savannah
X-ORIGINAL-URL:https://bikewalksavannah.org
X-WR-CALDESC:Events for Bike Walk Savannah
REFRESH-INTERVAL;VALUE=DURATION:PT1H
X-Robots-Tag:noindex
X-PUBLISHED-TTL:PT1H
BEGIN:VTIMEZONE
TZID:America/New_York
BEGIN:DAYLIGHT
TZOFFSETFROM:-0500
TZOFFSETTO:-0400
TZNAME:EDT
DTSTART:20220313T070000
END:DAYLIGHT
BEGIN:STANDARD
TZOFFSETFROM:-0400
TZOFFSETTO:-0500
TZNAME:EST
DTSTART:20221106T060000
END:STANDARD
BEGIN:DAYLIGHT
TZOFFSETFROM:-0500
TZOFFSETTO:-0400
TZNAME:EDT
DTSTART:20230312T070000
END:DAYLIGHT
BEGIN:STANDARD
TZOFFSETFROM:-0400
TZOFFSETTO:-0500
TZNAME:EST
DTSTART:20231105T060000
END:STANDARD
BEGIN:DAYLIGHT
TZOFFSETFROM:-0500
TZOFFSETTO:-0400
TZNAME:EDT
DTSTART:20240310T070000
END:DAYLIGHT
BEGIN:STANDARD
TZOFFSETFROM:-0400
TZOFFSETTO:-0500
TZNAME:EST
DTSTART:20241103T060000
END:STANDARD
BEGIN:DAYLIGHT
TZOFFSETFROM:-0500
TZOFFSETTO:-0400
TZNAME:EDT
DTSTART:20250309T070000
END:DAYLIGHT
BEGIN:STANDARD
TZOFFSETFROM:-0400
TZOFFSETTO:-0500
TZNAME:EST
DTSTART:20251102T060000
END:STANDARD
BEGIN:DAYLIGHT
TZOFFSETFROM:-0500
TZOFFSETTO:-0400
TZNAME:EDT
DTSTART:20260308T070000
END:DAYLIGHT
BEGIN:STANDARD
TZOFFSETFROM:-0400
TZOFFSETTO:-0500
TZNAME:EST
DTSTART:20261101T060000
END:STANDARD
END:VTIMEZONE
BEGIN:VEVENT
DTSTART;TZID=America/New_York:20251203T173000
DTEND;TZID=America/New_York:20251203T183000
DTSTAMP:20260425T133329
CREATED:20251027T165058Z
LAST-MODIFIED:20251027T165058Z
UID:11204-1764783000-1764786600@bikewalksavannah.org
SUMMARY:Wednesday Walk: Downtown Savannah
DESCRIPTION:Let’s head out for a walk!\nWeather permitting we will meet at the Forsyth Park Fountain at 5:30 pm for a casually paced walk and talk around downtown to check out the holiday lights. The walk is approximately 2 miles.\nPlease wear comfortable clothes and shoes you can walk in. Well behaved\, leashed dogs encouraged!
URL:https://bikewalksavannah.org/event/wednesday-walk-downtown-savannah/
LOCATION:Forsyth Park\, Gaston St.\, Savannah\, Georgia\, 31401\, United States
CATEGORIES:Event,Walk
END:VEVENT
BEGIN:VEVENT
DTSTART;TZID=America/New_York:20251105T180000
DTEND;TZID=America/New_York:20251105T190000
DTSTAMP:20260425T133329
CREATED:20251027T164633Z
LAST-MODIFIED:20251027T164633Z
UID:11200-1762365600-1762369200@bikewalksavannah.org
SUMMARY:Wednesday Walk: Lake Mayer
DESCRIPTION:Let’s head out for a walk!\nWeather permitting we will meet at the Lake Mayer Community Center for a casually paced walk and talk. The walk is approximately 2 miles.\nPlease wear comfortable clothes and shoes you can walk in.
URL:https://bikewalksavannah.org/event/wednesday-walk-lake-mayer/
LOCATION:Lake Mayer Community Center\, 1850 E Montgomery Cross Rd\, Savannah\, GA\, 31406\, United States
CATEGORIES:Walk,Walks
END:VEVENT
BEGIN:VEVENT
DTSTART;TZID=America/New_York:20241204T173000
DTEND;TZID=America/New_York:20241204T183000
DTSTAMP:20260425T133329
CREATED:20240220T021159Z
LAST-MODIFIED:20240220T021159Z
UID:10924-1733333400-1733337000@bikewalksavannah.org
SUMMARY:December Wednesday Walk: Downtown Savannah
DESCRIPTION:Let’s head out for a walk!\nWeather permitting we will meet at the Forsyth Park Fountain for a casually paced walk and talk around downtown to check out the holiday lights. The walk is approximately 2 miles.\nPlease wear comfortable clothes and shoes you can walk in. Well behaved\, leashed dogs encouraged!
URL:https://bikewalksavannah.org/event/december-wednesday-walk-downtown-savannah/
LOCATION:Forsyth Park\, Gaston St.\, Savannah\, Georgia\, 31401\, United States
CATEGORIES:Walk
END:VEVENT
BEGIN:VEVENT
DTSTART;TZID=America/New_York:20241109T130000
DTEND;TZID=America/New_York:20241109T160000
DTSTAMP:20260425T133329
CREATED:20240220T022126Z
LAST-MODIFIED:20240708T175202Z
UID:10950-1731157200-1731168000@bikewalksavannah.org
SUMMARY:12th Annual Savannah Cranksgiving Ride
DESCRIPTION:Our 12th annual Savannah Cranksgiving Ride is Saturday\, Nov. 9 starting at 1 p.m. Cranksgiving is half bike ride\, half food drive and a 100 percent fun way to spend a Saturday afternoon helping others.\nBike Walk Savannah (and you!) will be helping feed hungry people at Emmaus House and supporting Over the Moon Diaper Bank.\nFounded in 1982 by a group of downtown churches\, Emmaus House provides food and day services to the homeless and needy of Savannah. Breakfast is served at 8:30 a.m. Monday through Friday\, fifty weeks each year.\nOver the Moon Diaper Bank partners with numerous social service agencies throughout the Lowcountry to distribute disposable diapers\, wipes\, period\, and incontinence items to the families they serve\, and participate in a wide variety of community give-away events each month.\nRegistration for the ride starts at 1 p.m. on Saturday\, Nov. 9 at BWS HQ (Corner of Henry and Lincoln streets). At registration\, participants will receive a shopping list of items needed by Emmaus House\, as well as a scavenger hunt. The challenge begins at 1:30 p.m. when riders roll out to shop by bike. Participants should pick up items from the shopping list without going over $15-20 price limit. This is not a race! Riders may compete by themselves or on teams (up to 6 members).\nStay tuned for more details!
URL:https://bikewalksavannah.org/event/12th-annual-savannah-cranksgiving-ride/
LOCATION:Bike Walk Savannah\, 1301 A Lincoln St.\, Savannah\, GA\, 31401\, United States
CATEGORIES:Bike Ride,Walk
END:VEVENT
BEGIN:VEVENT
DTSTART;TZID=America/New_York:20241106T173000
DTEND;TZID=America/New_York:20241106T190000
DTSTAMP:20260425T133329
CREATED:20240220T021112Z
LAST-MODIFIED:20240220T021121Z
UID:10923-1730914200-1730919600@bikewalksavannah.org
SUMMARY:November Wednesday Walk: Lake Mayer
DESCRIPTION:Let’s head out for a walk!\nWeather permitting we will meet at Lake Mayer Community Center for a casually paced walk and talk. The walk is approximately 2 miles.\nPlease wear comfortable clothes and shoes you can walk in.
URL:https://bikewalksavannah.org/event/november-wednesday-walk-lake-mayer/
LOCATION:Lake Mayer Park\, 1850 E Montgomery Cross Road\, Savannah\, GA\, 31406\, United States
CATEGORIES:Walk
END:VEVENT
BEGIN:VEVENT
DTSTART;TZID=America/New_York:20241002T180000
DTEND;TZID=America/New_York:20241002T190000
DTSTAMP:20260425T133329
CREATED:20240220T021032Z
LAST-MODIFIED:20240220T021032Z
UID:10922-1727892000-1727895600@bikewalksavannah.org
SUMMARY:October Wednesday Walk: Hull Park
DESCRIPTION:Let’s head out for a walk!\nWeather permitting we will meet at Hull Park for a casually paced walk and talk. The walk is approximately 2 miles.\nPlease wear comfortable clothes and shoes you can walk in. Well behaved\, leashed dogs encouraged.
URL:https://bikewalksavannah.org/event/october-wednesday-walk-hull-park/
LOCATION:Hull Park\, 55th and Atlantic Ave.\, Savannah\, GA\, 31405\, United States
CATEGORIES:Walk
END:VEVENT
BEGIN:VEVENT
DTSTART;TZID=America/New_York:20240904T180000
DTEND;TZID=America/New_York:20240904T190000
DTSTAMP:20260425T133329
CREATED:20240220T020957Z
LAST-MODIFIED:20240220T020957Z
UID:10921-1725472800-1725476400@bikewalksavannah.org
SUMMARY:September Wednesday Walk: Gordonston
DESCRIPTION:Let’s head out for a walk!\nWeather permitting we will meet at Juliette Low Park for a casually paced walk and talk. The walk is approximately 2 miles.\nPlease wear comfortable clothes and shoes you can walk in. Well behaved\, leashed dogs encouraged.
URL:https://bikewalksavannah.org/event/september-wednesday-walk-gordonston/
LOCATION:Juliette Low Park\, Kentucky Avenue at Edgewood Road\, Savannah\, GA\, 31404\, United States
CATEGORIES:Walk
END:VEVENT
BEGIN:VEVENT
DTSTART;TZID=America/New_York:20240807T180000
DTEND;TZID=America/New_York:20240807T190000
DTSTAMP:20260425T133329
CREATED:20240220T020921Z
LAST-MODIFIED:20240220T020921Z
UID:10920-1723053600-1723057200@bikewalksavannah.org
SUMMARY:August Wednesday Walk: Ardsley Park/Chatham Crescent
DESCRIPTION:Let’s head out for a walk!\nWeather permitting we will meet at Tiedemann Park for a casually paced walk and talk. The walk is approximately 2 miles.\nPlease wear comfortable clothes and shoes you can walk in. Well behaved\, leashed dogs encouraged.
URL:https://bikewalksavannah.org/event/august-wednesday-walk-ardsley-park-chatham-crescent/
LOCATION:Tiedeman Park\, 500 Washington Ave.\, Savannah\, GA\, 31405\, United States
CATEGORIES:Walk
END:VEVENT
BEGIN:VEVENT
DTSTART;TZID=America/New_York:20240703T180000
DTEND;TZID=America/New_York:20240703T190000
DTSTAMP:20260425T133329
CREATED:20240220T020840Z
LAST-MODIFIED:20240220T020840Z
UID:10919-1720029600-1720033200@bikewalksavannah.org
SUMMARY:July Wednesday Walk: Whitemarsh Preserve
DESCRIPTION:Let’s head out for a walk!\nWeather permitting we will meet at the Whitemarsh Preserve Trail for a casually paced walk and talk. The walk is approximately 2 miles.\nPlease wear comfortable clothes and shoes you can walk in. Well behaved\, leashed dogs encouraged.
URL:https://bikewalksavannah.org/event/july-wednesday-walk-whitemarsh-preserve/
LOCATION:Whitemarsh Preserve Trail
CATEGORIES:Walk
END:VEVENT
BEGIN:VEVENT
DTSTART;TZID=America/New_York:20240605T180000
DTEND;TZID=America/New_York:20240605T190000
DTSTAMP:20260425T133329
CREATED:20240220T020758Z
LAST-MODIFIED:20240220T020758Z
UID:10918-1717610400-1717614000@bikewalksavannah.org
SUMMARY:June Wednesday Walk: Tybee Island
DESCRIPTION:Let’s head out for a walk!\nWeather permitting we will meet at the Tybee Island Marine Science Center Center for a casually paced walk and talk. The walk is approximately 2 miles.\nPlease wear comfortable clothes and shoes you can walk in.
URL:https://bikewalksavannah.org/event/june-wednesday-walk-tybee-island/
LOCATION:Tybee Island Marine Science Center
CATEGORIES:Walk
END:VEVENT
BEGIN:VEVENT
DTSTART;TZID=America/New_York:20240501T180000
DTEND;TZID=America/New_York:20240501T190000
DTSTAMP:20260425T133329
CREATED:20240220T020627Z
LAST-MODIFIED:20240220T020627Z
UID:10916-1714586400-1714590000@bikewalksavannah.org
SUMMARY:May Wednesday Walk: McQueen's Island Trail
DESCRIPTION:Let’s head out for a walk!\nWeather permitting we will meet at McQueen’s Island Trail at the Fort Pulaski entrance for a casually paced walk and talk. The walk is approximately 2 miles.\nPlease wear comfortable clothes and shoes you can walk in. Well behaved\, leashed dogs encouraged!
URL:https://bikewalksavannah.org/event/may-wednesday-walk-mcqueens-island-trail/
LOCATION:McQueen’s Island Trail
CATEGORIES:Walk
END:VEVENT
BEGIN:VEVENT
DTSTART;TZID=America/New_York:20240403T180000
DTEND;TZID=America/New_York:20240403T190000
DTSTAMP:20260425T133329
CREATED:20240220T020535Z
LAST-MODIFIED:20240220T020535Z
UID:10927-1712167200-1712170800@bikewalksavannah.org
SUMMARY:April Wednesday Walk: Tribble Park
DESCRIPTION:Let’s head out for a walk! \nWeather permitting we will meet at Tribble Park for a casually paced walk and talk. The walk is approximately 2 miles. \nPlease wear comfortable clothes and shoes you can walk in. Well behaved\, leashed dogs encouraged!
URL:https://bikewalksavannah.org/event/april-wednesday-walk-tribble-park/
LOCATION:Tribble Park\, 12517 Largo Dr.\, Savannah\, GA\, 31419\, United States
CATEGORIES:Walk
END:VEVENT
BEGIN:VEVENT
DTSTART;TZID=America/New_York:20240308T183000
DTEND;TZID=America/New_York:20240308T200000
DTSTAMP:20260425T133329
CREATED:20240220T020428Z
LAST-MODIFIED:20240220T020428Z
UID:10915-1709922600-1709928000@bikewalksavannah.org
SUMMARY:3rd Annual Savannah Slithering Parade
DESCRIPTION:Join us for the 3rd Annual Savannah Slithering! It’s a parade! Of snake lanterns! And people! Bring a snake-themed\, illuminated lantern\, dress up\, and ssstroll with us\, from Lone Wolf to DeSoto Ave.\nIt’s free\, festive\, and fun for all ages.\nLearn More and See Our 2024 Sponsors\nhttps://www.savannahslithering.com/\nRegister for Our Lantern-Making Workshops:\nhttps://www.eventbrite.com/…/krewe-of-the-humble…\nSupport the Krewe\, Donate Here:\nhttps://gofund.me/8040c029
URL:https://bikewalksavannah.org/event/3rd-annual-savannah-slithering-parade/
LOCATION:Lone Wolf Lounge
CATEGORIES:Event,Walk
END:VEVENT
BEGIN:VEVENT
DTSTART;TZID=America/New_York:20240306T180000
DTEND;TZID=America/New_York:20240306T190000
DTSTAMP:20260425T133329
CREATED:20240205T231615Z
LAST-MODIFIED:20240205T231636Z
UID:10828-1709748000-1709751600@bikewalksavannah.org
SUMMARY:Wednesday Walks: Bowles C. Ford Park
DESCRIPTION:Let’s head out for a walk!\nWeather permitting we will meet at Bowles C Ford Park for a casually paced walk and talk. The walk is approximately 2 miles.\nPlease wear comfortable clothes and shoes you can walk in. Well behaved\, leashed dogs encouraged!
URL:https://bikewalksavannah.org/event/wednesday-walks-5/
LOCATION:Bowles C. Ford Park\, Cloverdale Dr\, Savannah\, GA\, 31415\, United States
CATEGORIES:Walk
END:VEVENT
BEGIN:VEVENT
DTSTART;TZID=America/New_York:20231206T173000
DTEND;TZID=America/New_York:20231206T183000
DTSTAMP:20260425T133329
CREATED:20230215T210808Z
LAST-MODIFIED:20230215T210808Z
UID:10581-1701883800-1701887400@bikewalksavannah.org
SUMMARY:December Wednesday Walk
DESCRIPTION:Let’s head out for a walk!\nWeather permitting we will meet at the Forsyth Park Fountain for a casually paced walk and talk. The walk is approximately 2 miles.\nPlease wear comfortable clothes and shoes you can walk in. Well behaved\, leashed dogs encouraged!
URL:https://bikewalksavannah.org/event/december-wednesday-walk/
LOCATION:Forsyth Park\, Gaston St.\, Savannah\, Georgia\, 31401\, United States
CATEGORIES:Event,Walk
END:VEVENT
BEGIN:VEVENT
DTSTART;TZID=America/New_York:20231101T173000
DTEND;TZID=America/New_York:20231101T183000
DTSTAMP:20260425T133329
CREATED:20230215T205716Z
LAST-MODIFIED:20230215T205716Z
UID:10573-1698859800-1698863400@bikewalksavannah.org
SUMMARY:November Wednesday Walk
DESCRIPTION:Let’s head out for a walk!Weather permitting we will meet at the Lake Mayer for a casually paced walk and talk. The walk is approximately 2 miles.\nPlease wear comfortable clothes and shoes you can walk in. Well behaved\, leashed dogs encouraged!
URL:https://bikewalksavannah.org/event/november-wednesday-walk-2/
CATEGORIES:Event,Walk
ATTACH;FMTTYPE=image/jpeg:https://bikewalksavannah.org/wp-content/uploads/2023/02/328723018_620261673442263_187244435467063756_n-9YPnG1.tmp_.jpg
END:VEVENT
BEGIN:VEVENT
DTSTART;TZID=America/New_York:20231004T173000
DTEND;TZID=America/New_York:20231004T183000
DTSTAMP:20260425T133329
CREATED:20230215T205712Z
LAST-MODIFIED:20230215T205712Z
UID:10569-1696440600-1696444200@bikewalksavannah.org
SUMMARY:October Wednesday Walk
DESCRIPTION:Let’s head out for a walk!Weather permitting we will meet at the Hull Park for a casually paced walk and talk. The walk is approximately 2 miles.\nPlease wear comfortable clothes and shoes you can walk in. Well behaved\, leashed dogs encouraged!
URL:https://bikewalksavannah.org/event/october-wednesday-walk/
LOCATION:Hull Park\, 55th and Atlantic Ave.\, Savannah\, GA\, 31405\, United States
CATEGORIES:Event,Walk
ATTACH;FMTTYPE=image/jpeg:https://bikewalksavannah.org/wp-content/uploads/2023/02/328723018_620261673442263_187244435467063756_n-RpQJIz.tmp_.jpg
END:VEVENT
BEGIN:VEVENT
DTSTART;TZID=America/New_York:20230906T180000
DTEND;TZID=America/New_York:20230906T190000
DTSTAMP:20260425T133329
CREATED:20230215T205704Z
LAST-MODIFIED:20230906T163556Z
UID:10565-1694023200-1694026800@bikewalksavannah.org
SUMMARY:September Wednesday Walk
DESCRIPTION:Let’s head out for a walk! Weather permitting we will meet at the Juliette Low Park for a casually paced walk and talk. The walk is approximately 2 miles.\nPlease wear comfortable clothes and shoes you can walk in. Well behaved\, leashed dogs encouraged!
URL:https://bikewalksavannah.org/event/september-wednesday-walk/
LOCATION:Juliette Low Park\, Kentucky Avenue at Edgewood Road\, Savannah\, GA\, 31404\, United States
CATEGORIES:Event,Walk
ATTACH;FMTTYPE=image/jpeg:https://bikewalksavannah.org/wp-content/uploads/2023/02/328723018_620261673442263_187244435467063756_n-hcHKvK.tmp_.jpg
END:VEVENT
BEGIN:VEVENT
DTSTART;TZID=America/New_York:20230802T180000
DTEND;TZID=America/New_York:20230802T190000
DTSTAMP:20260425T133329
CREATED:20230215T205653Z
LAST-MODIFIED:20230215T205653Z
UID:10557-1690999200-1691002800@bikewalksavannah.org
SUMMARY:August Wednesday Walk
DESCRIPTION:Let’s head out for a walk!Weather permitting we will meet at the Tiedemann Park for a casually paced walk and talk. The walk is approximately 2.5 miles.\nPlease wear comfortable clothes and shoes you can walk in. Well behaved\, leashed dogs encouraged!
URL:https://bikewalksavannah.org/event/august-wednesday-walk/
CATEGORIES:Event,Walk
ATTACH;FMTTYPE=image/jpeg:https://bikewalksavannah.org/wp-content/uploads/2023/02/328723018_620261673442263_187244435467063756_n-tKJvh3.tmp_.jpg
END:VEVENT
BEGIN:VEVENT
DTSTART;TZID=America/New_York:20230705T180000
DTEND;TZID=America/New_York:20230705T190000
DTSTAMP:20260425T133329
CREATED:20230215T205649Z
LAST-MODIFIED:20230215T205649Z
UID:10555-1688580000-1688583600@bikewalksavannah.org
SUMMARY:July Wednesday Walk
DESCRIPTION:Let’s head out for a walk!Weather permitting we will meet at the Whitemarsh Preserve for a casually paced walk and talk. The walk is approximately 2.5 miles.\nPlease wear comfortable clothes and shoes you can walk in. Well behaved\, leashed dogs encouraged!
URL:https://bikewalksavannah.org/event/july-wednesday-walk/
CATEGORIES:Event,Walk
ATTACH;FMTTYPE=image/jpeg:https://bikewalksavannah.org/wp-content/uploads/2023/02/328723018_620261673442263_187244435467063756_n-IK6Ifa.tmp_.jpg
END:VEVENT
BEGIN:VEVENT
DTSTART;TZID=America/New_York:20230607T180000
DTEND;TZID=America/New_York:20230607T190000
DTSTAMP:20260425T133329
CREATED:20230215T205634Z
LAST-MODIFIED:20230215T205634Z
UID:10547-1686160800-1686164400@bikewalksavannah.org
SUMMARY:June Wednesday Walk
DESCRIPTION:Weather permitting we will meet at the Tybee Island Marine Science Center for a walk along North Beach and through the neighborhood. The walk is approximately 2 miles.Please wear comfortable clothes and shoes you can walk in.
URL:https://bikewalksavannah.org/event/june-wednesday-walk/
CATEGORIES:Event,Walk
ATTACH;FMTTYPE=image/jpeg:https://bikewalksavannah.org/wp-content/uploads/2023/02/328723018_620261673442263_187244435467063756_n-vlhWap.tmp_.jpg
END:VEVENT
BEGIN:VEVENT
DTSTART;TZID=America/New_York:20230503T180000
DTEND;TZID=America/New_York:20230503T190000
DTSTAMP:20260425T133329
CREATED:20230215T205604Z
LAST-MODIFIED:20230215T205619Z
UID:10528-1683136800-1683140400@bikewalksavannah.org
SUMMARY:May Wednesday Walk
DESCRIPTION:Let’s head out for a walk!Weather permitting we will meet at the visitors center at Skidaway Island State Park for a casually paced walk and talk. The walk is approximately 2 miles.\nPlease wear comfortable clothes and shoes you can walk in. Well behaved\, leashed dogs encouraged!
URL:https://bikewalksavannah.org/event/may-wednesday-walk-2/
CATEGORIES:Event,Walk
ATTACH;FMTTYPE=image/jpeg:https://bikewalksavannah.org/wp-content/uploads/2023/02/328723018_620261673442263_187244435467063756_n-9zNrbJ.tmp_.jpg
END:VEVENT
BEGIN:VEVENT
DTSTART;TZID=America/New_York:20230405T180000
DTEND;TZID=America/New_York:20230405T190000
DTSTAMP:20260425T133329
CREATED:20230215T205557Z
LAST-MODIFIED:20230215T205611Z
UID:10522-1680717600-1680721200@bikewalksavannah.org
SUMMARY:April Wednesday Walk
DESCRIPTION:Let’s head out for a walk!Weather permitting we will meet at the parking lot at Mohawk Park for a casually paced walk and talk. The walk is approximately 2 miles.\nPlease wear comfortable clothes and shoes you can walk in. Well behaved\, leashed dogs encouraged!
URL:https://bikewalksavannah.org/event/april-wednesday-walk/
CATEGORIES:Event,Walk
ATTACH;FMTTYPE=image/jpeg:https://bikewalksavannah.org/wp-content/uploads/2023/02/328723018_620261673442263_187244435467063756_n-qI9dMh.tmp_.jpg
END:VEVENT
BEGIN:VEVENT
DTSTART;TZID=America/New_York:20230301T180000
DTEND;TZID=America/New_York:20230301T190000
DTSTAMP:20260425T133329
CREATED:20230215T205541Z
LAST-MODIFIED:20230215T205541Z
UID:10514-1677693600-1677697200@bikewalksavannah.org
SUMMARY:March Wednesday Walk
DESCRIPTION:Let’s head out for a walk!Weather permitting we will meet at the parking lot at Bowles C Ford Park for a casually paced walk and talk. The walk is approximately 2 miles (2 loops of the trail and path). Participants will get to see how the park will connect to the Tide To Town urban trail system.\nPlease wear comfortable clothes and shoes you can walk in. Well behaved\, leashed dogs encouraged!
URL:https://bikewalksavannah.org/event/march-wednesday-walk/
CATEGORIES:Event,Walk
ATTACH;FMTTYPE=image/jpeg:https://bikewalksavannah.org/wp-content/uploads/2023/02/328723018_620261673442263_187244435467063756_n-5snTf8.tmp_.jpg
END:VEVENT
END:VCALENDAR