BEGIN:VCALENDAR
VERSION:2.0
PRODID:-//Bike Walk Savannah - ECPv6.15.20//NONSGML v1.0//EN
CALSCALE:GREGORIAN
METHOD:PUBLISH
X-ORIGINAL-URL:https://bikewalksavannah.org
X-WR-CALDESC:Events for Bike Walk Savannah
REFRESH-INTERVAL;VALUE=DURATION:PT1H
X-Robots-Tag:noindex
X-PUBLISHED-TTL:PT1H
BEGIN:VTIMEZONE
TZID:America/New_York
BEGIN:DAYLIGHT
TZOFFSETFROM:-0500
TZOFFSETTO:-0400
TZNAME:EDT
DTSTART:20180311T070000
END:DAYLIGHT
BEGIN:STANDARD
TZOFFSETFROM:-0400
TZOFFSETTO:-0500
TZNAME:EST
DTSTART:20181104T060000
END:STANDARD
BEGIN:DAYLIGHT
TZOFFSETFROM:-0500
TZOFFSETTO:-0400
TZNAME:EDT
DTSTART:20190310T070000
END:DAYLIGHT
BEGIN:STANDARD
TZOFFSETFROM:-0400
TZOFFSETTO:-0500
TZNAME:EST
DTSTART:20191103T060000
END:STANDARD
BEGIN:DAYLIGHT
TZOFFSETFROM:-0500
TZOFFSETTO:-0400
TZNAME:EDT
DTSTART:20200308T070000
END:DAYLIGHT
BEGIN:STANDARD
TZOFFSETFROM:-0400
TZOFFSETTO:-0500
TZNAME:EST
DTSTART:20201101T060000
END:STANDARD
BEGIN:DAYLIGHT
TZOFFSETFROM:-0500
TZOFFSETTO:-0400
TZNAME:EDT
DTSTART:20210314T070000
END:DAYLIGHT
BEGIN:STANDARD
TZOFFSETFROM:-0400
TZOFFSETTO:-0500
TZNAME:EST
DTSTART:20211107T060000
END:STANDARD
BEGIN:DAYLIGHT
TZOFFSETFROM:-0500
TZOFFSETTO:-0400
TZNAME:EDT
DTSTART:20220313T070000
END:DAYLIGHT
BEGIN:STANDARD
TZOFFSETFROM:-0400
TZOFFSETTO:-0500
TZNAME:EST
DTSTART:20221106T060000
END:STANDARD
BEGIN:DAYLIGHT
TZOFFSETFROM:-0500
TZOFFSETTO:-0400
TZNAME:EDT
DTSTART:20230312T070000
END:DAYLIGHT
BEGIN:STANDARD
TZOFFSETFROM:-0400
TZOFFSETTO:-0500
TZNAME:EST
DTSTART:20231105T060000
END:STANDARD
BEGIN:DAYLIGHT
TZOFFSETFROM:-0500
TZOFFSETTO:-0400
TZNAME:EDT
DTSTART:20240310T070000
END:DAYLIGHT
BEGIN:STANDARD
TZOFFSETFROM:-0400
TZOFFSETTO:-0500
TZNAME:EST
DTSTART:20241103T060000
END:STANDARD
END:VTIMEZONE
BEGIN:VEVENT
DTSTART;TZID=America/New_York:20231007T160000
DTEND;TZID=America/New_York:20231007T213000
DTSTAMP:20260425T170614
CREATED:20231005T015337Z
LAST-MODIFIED:20231005T015337Z
UID:10784-1696694400-1696714200@bikewalksavannah.org
SUMMARY:Bike Valet at Phil the Park
DESCRIPTION:Pedal over to Phil the Park and leave the parking to us! That’s right\, we’re providing our world-famous bike valet on Saturday\, Oct. 7 at Forsyth Park beginning at 4 p.m. \nThis year’s theme\, “Around the World”\, is celebrating the global rhythms of Savannah. The music will begin at 5 p.m. with the 3rd Infantry Division Rock Band\, followed by Savannah Music Festival’s Jazz Academy and Savannah Philharmonic Orchestra and Chorus\, with guest artists Alysha Umphress and The SCAD Bee Sharps. \nBike valet will be located near the tennis courts on the south end of the grass.
URL:https://bikewalksavannah.org/event/bike-valet-at-phil-the-park/
LOCATION:Forsyth Park\, Gaston St.\, Savannah\, Georgia\, 31401\, United States
CATEGORIES:Bike Valet,Event
END:VEVENT
BEGIN:VEVENT
DTSTART;TZID=America/New_York:20190420T120000
DTEND;TZID=America/New_York:20190420T170000
DTSTAMP:20260425T170614
CREATED:20190416T175144Z
LAST-MODIFIED:20190416T175144Z
UID:7945-1555761600-1555779600@bikewalksavannah.org
SUMMARY:Bike Valet at the Earth Day Festival
DESCRIPTION:Ride your bike to the 2019 Earth Day Festival and leave the parking to us!
URL:https://bikewalksavannah.org/event/bike-valet-at-the-earth-day-festival/
LOCATION:Daffin Park\, 1301 E Victory Dr\, Savannah\, GA\, 31304\, United States
CATEGORIES:Bike Valet
ATTACH;FMTTYPE=image/jpeg:https://bikewalksavannah.org/wp-content/uploads/2018/11/bikevalet6-e1446586833124.jpg
END:VEVENT
END:VCALENDAR