BEGIN:VCALENDAR
VERSION:2.0
PRODID:-//Bike Walk Savannah - ECPv6.15.20//NONSGML v1.0//EN
CALSCALE:GREGORIAN
METHOD:PUBLISH
X-WR-CALNAME:Bike Walk Savannah
X-ORIGINAL-URL:https://bikewalksavannah.org
X-WR-CALDESC:Events for Bike Walk Savannah
REFRESH-INTERVAL;VALUE=DURATION:PT1H
X-Robots-Tag:noindex
X-PUBLISHED-TTL:PT1H
BEGIN:VTIMEZONE
TZID:America/New_York
BEGIN:DAYLIGHT
TZOFFSETFROM:-0500
TZOFFSETTO:-0400
TZNAME:EDT
DTSTART:20230312T070000
END:DAYLIGHT
BEGIN:STANDARD
TZOFFSETFROM:-0400
TZOFFSETTO:-0500
TZNAME:EST
DTSTART:20231105T060000
END:STANDARD
BEGIN:DAYLIGHT
TZOFFSETFROM:-0500
TZOFFSETTO:-0400
TZNAME:EDT
DTSTART:20240310T070000
END:DAYLIGHT
BEGIN:STANDARD
TZOFFSETFROM:-0400
TZOFFSETTO:-0500
TZNAME:EST
DTSTART:20241103T060000
END:STANDARD
BEGIN:DAYLIGHT
TZOFFSETFROM:-0500
TZOFFSETTO:-0400
TZNAME:EDT
DTSTART:20250309T070000
END:DAYLIGHT
BEGIN:STANDARD
TZOFFSETFROM:-0400
TZOFFSETTO:-0500
TZNAME:EST
DTSTART:20251102T060000
END:STANDARD
END:VTIMEZONE
BEGIN:VEVENT
DTSTART;TZID=America/New_York:20240314T180000
DTEND;TZID=America/New_York:20240314T200000
DTSTAMP:20260426T004151
CREATED:20240220T020709Z
LAST-MODIFIED:20240220T020709Z
UID:10917-1710439200-1710446400@bikewalksavannah.org
SUMMARY:St. Patrick's Day Bike Tune Ups
DESCRIPTION:Are you planning to ride your bike to the City’s St. Patrick’s Day Parade on Saturday? Has it been sitting in your garage/shed/porch all winter? Make sure to bring it by our bike tune ups on Thursday\, March 14 from 6-8 p.m.!\nOur New Standard Cycles crew will help change tubes and tires\, make brake adjustments\, and (hopefully) make sure your bike can get you to the parade and back.\nTubes – $7\nTires – $15-25\nBrake Adjustments (no new parts) – Free
URL:https://bikewalksavannah.org/event/st-patricks-day-bike-tune-ups/
LOCATION:Bike Walk Savannah\, 1301 A Lincoln St.\, Savannah\, GA\, 31401\, United States
CATEGORIES:Event
END:VEVENT
END:VCALENDAR