BEGIN:VCALENDAR
VERSION:2.0
PRODID:-//Bike Walk Savannah - ECPv6.15.20//NONSGML v1.0//EN
CALSCALE:GREGORIAN
METHOD:PUBLISH
X-WR-CALNAME:Bike Walk Savannah
X-ORIGINAL-URL:https://bikewalksavannah.org
X-WR-CALDESC:Events for Bike Walk Savannah
REFRESH-INTERVAL;VALUE=DURATION:PT1H
X-Robots-Tag:noindex
X-PUBLISHED-TTL:PT1H
BEGIN:VTIMEZONE
TZID:America/New_York
BEGIN:DAYLIGHT
TZOFFSETFROM:-0500
TZOFFSETTO:-0400
TZNAME:EDT
DTSTART:20230312T070000
END:DAYLIGHT
BEGIN:STANDARD
TZOFFSETFROM:-0400
TZOFFSETTO:-0500
TZNAME:EST
DTSTART:20231105T060000
END:STANDARD
BEGIN:DAYLIGHT
TZOFFSETFROM:-0500
TZOFFSETTO:-0400
TZNAME:EDT
DTSTART:20240310T070000
END:DAYLIGHT
BEGIN:STANDARD
TZOFFSETFROM:-0400
TZOFFSETTO:-0500
TZNAME:EST
DTSTART:20241103T060000
END:STANDARD
BEGIN:DAYLIGHT
TZOFFSETFROM:-0500
TZOFFSETTO:-0400
TZNAME:EDT
DTSTART:20250309T070000
END:DAYLIGHT
BEGIN:STANDARD
TZOFFSETFROM:-0400
TZOFFSETTO:-0500
TZNAME:EST
DTSTART:20251102T060000
END:STANDARD
END:VTIMEZONE
BEGIN:VEVENT
DTSTART;TZID=America/New_York:20240221T173000
DTEND;TZID=America/New_York:20240221T190000
DTSTAMP:20260425T224216
CREATED:20240205T212531Z
LAST-MODIFIED:20240205T212531Z
UID:10811-1708536600-1708542000@bikewalksavannah.org
SUMMARY:Cycle Social: Truman Linear Park Trail
DESCRIPTION:Join us each month for a casual\, family-friendly bike ride at a different spot in Savannah or Chatham County.\nThis month we’ll meet at 5:30 p.m. at Lake Mayer in front of the Community Center/Park Administrative Office and ride the Truman Linear Park Trail\, ending with a conversation about Tide To Town and the future of our urban trail system.\nLights and helmets required. Please bring your bike and water. Ride distance is approximately 7.5 miles.\nThe ride is free and open to the public\, but we encourage you to become a member of Bike Walk Savannah or make a donation to support our work at bikewalksavannah.org/give.
URL:https://bikewalksavannah.org/event/cycle-social-truman-linear-park-trail-4/
LOCATION:Lake Mayer Park\, 1850 E Montgomery Cross Road\, Savannah\, GA\, 31406\, United States
CATEGORIES:Bike Ride
END:VEVENT
END:VCALENDAR