BEGIN:VCALENDAR
VERSION:2.0
PRODID:-//Bike Walk Savannah - ECPv6.15.20//NONSGML v1.0//EN
CALSCALE:GREGORIAN
METHOD:PUBLISH
X-ORIGINAL-URL:https://bikewalksavannah.org
X-WR-CALDESC:Events for Bike Walk Savannah
REFRESH-INTERVAL;VALUE=DURATION:PT1H
X-Robots-Tag:noindex
X-PUBLISHED-TTL:PT1H
BEGIN:VTIMEZONE
TZID:America/New_York
BEGIN:DAYLIGHT
TZOFFSETFROM:-0500
TZOFFSETTO:-0400
TZNAME:EDT
DTSTART:20220313T070000
END:DAYLIGHT
BEGIN:STANDARD
TZOFFSETFROM:-0400
TZOFFSETTO:-0500
TZNAME:EST
DTSTART:20221106T060000
END:STANDARD
BEGIN:DAYLIGHT
TZOFFSETFROM:-0500
TZOFFSETTO:-0400
TZNAME:EDT
DTSTART:20230312T070000
END:DAYLIGHT
BEGIN:STANDARD
TZOFFSETFROM:-0400
TZOFFSETTO:-0500
TZNAME:EST
DTSTART:20231105T060000
END:STANDARD
BEGIN:DAYLIGHT
TZOFFSETFROM:-0500
TZOFFSETTO:-0400
TZNAME:EDT
DTSTART:20240310T070000
END:DAYLIGHT
BEGIN:STANDARD
TZOFFSETFROM:-0400
TZOFFSETTO:-0500
TZNAME:EST
DTSTART:20241103T060000
END:STANDARD
END:VTIMEZONE
BEGIN:VEVENT
DTSTART;TZID=America/New_York:20231018T173000
DTEND;TZID=America/New_York:20231018T190000
DTSTAMP:20260425T144631
CREATED:20230215T205714Z
LAST-MODIFIED:20230215T205714Z
UID:10571-1697650200-1697655600@bikewalksavannah.org
SUMMARY:Cycle Social: Hull Park
DESCRIPTION:Join us each month for a casual\, family-friendly bike ride at a different spot in Savannah or Chatham County.This month we’ll meet at 5:30 p.m. at Hull Park for a ride around Ardsley Park\, Chatham Crescent\, Habersham Village and Parkside.\nLights required\, and helmets are encouraged. Please bring your bike and water. Ride distance is approximately 5 miles.\nThe ride is free and open to the public\, but we encourage you to become a member of Bike Walk Savannah or make a donation to support our work at bikewalksavannah.org.
URL:https://bikewalksavannah.org/event/cycle-social-hull-park-2/
LOCATION:Hull Park\, 55th and Atlantic Ave.\, Savannah\, GA\, 31405\, United States
CATEGORIES:Bike Ride,Event
ATTACH;FMTTYPE=image/jpeg:https://bikewalksavannah.org/wp-content/uploads/2023/02/328550031_699231261852740_4306595382521802732_n-SPw13T.tmp_.jpg
END:VEVENT
END:VCALENDAR